BEGIN:VCALENDAR
VERSION:2.0
PRODID:-//River Rats Dueling Pianos - ECPv6.15.20//NONSGML v1.0//EN
CALSCALE:GREGORIAN
METHOD:PUBLISH
X-ORIGINAL-URL:https://riverratsduelingpianos.com
X-WR-CALDESC:Events for River Rats Dueling Pianos
REFRESH-INTERVAL;VALUE=DURATION:PT1H
X-Robots-Tag:noindex
X-PUBLISHED-TTL:PT1H
BEGIN:VTIMEZONE
TZID:UTC
BEGIN:STANDARD
TZOFFSETFROM:+0000
TZOFFSETTO:+0000
TZNAME:UTC
DTSTART:20130101T000000
END:STANDARD
END:VTIMEZONE
BEGIN:VEVENT
DTSTART;VALUE=DATE:20140317
DTEND;VALUE=DATE:20140318
DTSTAMP:20260420T060326
CREATED:20131108T012519Z
LAST-MODIFIED:20131108T012519Z
UID:22-1395014400-1395100799@riverratsduelingpianos.com
SUMMARY:NUMBER 4 AMERICAN BAR & GRILL\, Mankato\, MN PUBLIC SHOW!!!
DESCRIPTION:St. Patties Day is always more fun with the River Rats returning for another crazy nite!!!!
URL:https://riverratsduelingpianos.com/event/number-4-american-bar-grill-mankato-mn-public-show-2/
CATEGORIES:Public Event
END:VEVENT
BEGIN:VEVENT
DTSTART;TZID=UTC:20140317T193000
DTEND;TZID=UTC:20140317T230000
DTSTAMP:20260420T060326
CREATED:20140314T023631Z
LAST-MODIFIED:20140314T023631Z
UID:116-1395084600-1395097200@riverratsduelingpianos.com
SUMMARY:#4 AMERICAN BAR AND KITCHEN\, Mankato\, MN - !PUBLIC SHOW!
DESCRIPTION:An annual tradition\, River Rats at the #4 for St Pattys Day! \nGood times on a Monday Nite! \n 
URL:https://riverratsduelingpianos.com/event/4-american-bar-and-kitchen-mankato-mn-public-show/
LOCATION:#4 AMERICAN BAR AND KITCHEN\, 124 E Walnut St.\, Mankato\, MN\, United States
END:VEVENT
BEGIN:VEVENT
DTSTART;VALUE=DATE:20140322
DTEND;VALUE=DATE:20140323
DTSTAMP:20260420T060326
CREATED:20131108T012618Z
LAST-MODIFIED:20131108T012618Z
UID:23-1395446400-1395532799@riverratsduelingpianos.com
SUMMARY:EL RIAD SHRINE\, SIOUX FALLS\, SD. - PUBLIC EVENT 5:30 and 9:00 Shows!!!!
DESCRIPTION:It’s huge fun.\nTWO SHOWS!! One Nite Only!\n5:30 and 9:00 Shows\nCOME ON DOWN!!!!!!!!!!!!!!!!!!\nCall for tickets;\nEll Riad Shrine 605 336-1117
URL:https://riverratsduelingpianos.com/event/el-riad-shrine-sioux-falls-sd-public-event-530-and-900-shows/
LOCATION:Unnamed Venue\, 510 S. Phillips Ave.\, Sioux Falls\, SD\, United States
CATEGORIES:Public Event
END:VEVENT
END:VCALENDAR