BEGIN:VCALENDAR
VERSION:2.0
PRODID:-//River Rats Dueling Pianos - ECPv6.15.20//NONSGML v1.0//EN
CALSCALE:GREGORIAN
METHOD:PUBLISH
X-WR-CALNAME:River Rats Dueling Pianos
X-ORIGINAL-URL:https://riverratsduelingpianos.com
X-WR-CALDESC:Events for River Rats Dueling Pianos
REFRESH-INTERVAL;VALUE=DURATION:PT1H
X-Robots-Tag:noindex
X-PUBLISHED-TTL:PT1H
BEGIN:VTIMEZONE
TZID:UTC
BEGIN:STANDARD
TZOFFSETFROM:+0000
TZOFFSETTO:+0000
TZNAME:UTC
DTSTART:20130101T000000
END:STANDARD
END:VTIMEZONE
BEGIN:VEVENT
DTSTART;TZID=UTC:20140619T180000
DTEND;TZID=UTC:20140619T180000
DTSTAMP:20260420T002730
CREATED:20140311T083835Z
LAST-MODIFIED:20140311T083835Z
UID:106-1403200800-1403200800@riverratsduelingpianos.com
SUMMARY:TED BEARTH GRANDE PARADE\, Oakdale MN - Public Event
DESCRIPTION:Our Sixth Year as the entertainment for the Junior Royalty float. \nDetails coming
URL:https://riverratsduelingpianos.com/event/ted-bearth-grande-parade-oakdale-mn-public-event/
END:VEVENT
END:VCALENDAR