BEGIN:VCALENDAR
VERSION:2.0
PRODID:-//River Rats Dueling Pianos - ECPv6.15.20//NONSGML v1.0//EN
CALSCALE:GREGORIAN
METHOD:PUBLISH
X-WR-CALNAME:River Rats Dueling Pianos
X-ORIGINAL-URL:https://riverratsduelingpianos.com
X-WR-CALDESC:Events for River Rats Dueling Pianos
REFRESH-INTERVAL;VALUE=DURATION:PT1H
X-Robots-Tag:noindex
X-PUBLISHED-TTL:PT1H
BEGIN:VTIMEZONE
TZID:UTC
BEGIN:STANDARD
TZOFFSETFROM:+0000
TZOFFSETTO:+0000
TZNAME:UTC
DTSTART:20130101T000000
END:STANDARD
END:VTIMEZONE
BEGIN:VEVENT
DTSTART;TZID=UTC:20140801T180000
DTEND;TZID=UTC:20140801T210000
DTSTAMP:20260419T203806
CREATED:20140422T191943Z
LAST-MODIFIED:20140717T231832Z
UID:167-1406916000-1406926800@riverratsduelingpianos.com
SUMMARY:ONE STOP MARKET\, Wrenshall MN - Public Event for BRICKYARD DAYS
DESCRIPTION:We’re comin’ up to Wrenshall for some real fun! \nUnder the Big Top 5:30 – 8:30. \nBRING THE KIDS!!! \nhttp://www.cityofwrenshall.com/brickyard-days/
URL:https://riverratsduelingpianos.com/event/one-stop-market-wrenshall-mn-public-event-for-brickyard-days/
LOCATION:ONE STOP MARKET\, 131 Broadway St. \, Wrenshall\, \, MN\, 55797\, United States
END:VEVENT
BEGIN:VEVENT
DTSTART;TZID=UTC:20140806T180000
DTEND;TZID=UTC:20140806T220000
DTSTAMP:20260419T203806
CREATED:20140418T004155Z
LAST-MODIFIED:20140422T193347Z
UID:165-1407348000-1407362400@riverratsduelingpianos.com
SUMMARY:River Rats are Not Available
DESCRIPTION:Jim performs in the Salute to the Music of Bob Dylan show at Town Green Amphitheater in Maple Grove MN \n6:30 PM    Free for all! \n 
URL:https://riverratsduelingpianos.com/event/not-available-2/
END:VEVENT
BEGIN:VEVENT
DTSTART;TZID=UTC:20140808T200000
DTEND;TZID=UTC:20140808T220000
DTSTAMP:20260419T203806
CREATED:20140418T002734Z
LAST-MODIFIED:20140418T002734Z
UID:159-1407528000-1407535200@riverratsduelingpianos.com
SUMMARY:VOYAGER VILLAGE GLOF CLUB\, Danbury WI - Members Only Show
DESCRIPTION:Our THIRD YEAR entertaining the folks with the politest golf claps you’ll ever hear. \nAlways FUN!
URL:https://riverratsduelingpianos.com/event/voyager-village-glof-club-danbury-wi-members-only-show/
END:VEVENT
BEGIN:VEVENT
DTSTART;TZID=UTC:20140809T180000
DTEND;TZID=UTC:20140809T220000
DTSTAMP:20260419T203806
CREATED:20140418T004109Z
LAST-MODIFIED:20140422T193215Z
UID:164-1407607200-1407621600@riverratsduelingpianos.com
SUMMARY:River Rats are Not Available
DESCRIPTION:Jim performs in the Salute to the Music of Bob Dylan show at Wolfe Park Amphitheater in St. Louis Pk\, MN \n6:30 PM    Free for all!
URL:https://riverratsduelingpianos.com/event/not-available/
END:VEVENT
BEGIN:VEVENT
DTSTART;TZID=UTC:20140816T200000
DTEND;TZID=UTC:20140816T230000
DTSTAMP:20260419T203806
CREATED:20140418T003449Z
LAST-MODIFIED:20140418T003449Z
UID:160-1408219200-1408230000@riverratsduelingpianos.com
SUMMARY:FARABAULT\, MN for Faribault Class of 1989 25 Year Reunion
DESCRIPTION:This will be FUN! \nWe do reunions! \nWe do unions (weddings)! \nWe do it all!
URL:https://riverratsduelingpianos.com/event/farabault-mn-for-faribault-class-of-1989-25-year-reunion/
END:VEVENT
BEGIN:VEVENT
DTSTART;VALUE=DATE:20140820
DTEND;VALUE=DATE:20140821
DTSTAMP:20260419T203806
CREATED:20131108T012719Z
LAST-MODIFIED:20131108T012719Z
UID:25-1408492800-1408579199@riverratsduelingpianos.com
SUMMARY:EL RIAD SHRINE\, Sioux Falls SD - PUBLIC EVENT
DESCRIPTION:We’re back for another round at our favorite spot in Sioux Falls!\nContact El Riad Shrine of Sioux Falls for details.
URL:https://riverratsduelingpianos.com/event/el-riad-shrine-sioux-falls-sd-public-event/
CATEGORIES:Public Event
END:VEVENT
BEGIN:VEVENT
DTSTART;TZID=UTC:20140827T200000
DTEND;TZID=UTC:20140827T230000
DTSTAMP:20260419T203806
CREATED:20140514T210744Z
LAST-MODIFIED:20140514T210744Z
UID:179-1409169600-1409180400@riverratsduelingpianos.com
SUMMARY:JIMMY'S EVENT CENTER\, White Bear Lake\, MN - Private event for Five Star Financial Resources
DESCRIPTION:We’re back at Jimmy’s for another corporate event. \nCall us for your next party!
URL:https://riverratsduelingpianos.com/event/jimmys-event-center-white-bear-lake-mn-private-event-for-five-star-financial-resources/
END:VEVENT
BEGIN:VEVENT
DTSTART;TZID=UTC:20140830T130000
DTEND;TZID=UTC:20140830T160000
DTSTAMP:20260419T203806
CREATED:20140614T021142Z
LAST-MODIFIED:20140614T021142Z
UID:203-1409403600-1409414400@riverratsduelingpianos.com
SUMMARY:CLOQUET SENIOR CENTER\, Cloquet MN - Private Anniversary Party
DESCRIPTION:We play for ANY party! \nCall for your fun now…!
URL:https://riverratsduelingpianos.com/event/cloquet-senior-center-cloquet-mn-private-anniversary-party/
END:VEVENT
END:VCALENDAR