BEGIN:VCALENDAR
VERSION:2.0
PRODID:-//River Rats Dueling Pianos - ECPv6.15.20//NONSGML v1.0//EN
CALSCALE:GREGORIAN
METHOD:PUBLISH
X-WR-CALNAME:River Rats Dueling Pianos
X-ORIGINAL-URL:https://riverratsduelingpianos.com
X-WR-CALDESC:Events for River Rats Dueling Pianos
REFRESH-INTERVAL;VALUE=DURATION:PT1H
X-Robots-Tag:noindex
X-PUBLISHED-TTL:PT1H
BEGIN:VTIMEZONE
TZID:UTC
BEGIN:STANDARD
TZOFFSETFROM:+0000
TZOFFSETTO:+0000
TZNAME:UTC
DTSTART:20130101T000000
END:STANDARD
END:VTIMEZONE
BEGIN:VEVENT
DTSTART;TZID=UTC:20141004T213000
DTEND;TZID=UTC:20141004T213000
DTSTAMP:20260419T164551
CREATED:20140827T013116Z
LAST-MODIFIED:20140827T013116Z
UID:236-1412458200-1412458200@riverratsduelingpianos.com
SUMMARY:BUG-A-BOO BAY\, Alexandria\, MN  -  Tropical Ultra-Fun Public Party!!!
DESCRIPTION:We’re going ‘up north’ for a typical Minnesota Tropical Island Beach Party like no other! \nBug-A-Boo Bay ROCKS! \nFrom 9:30 – 1:30 we will bring the fun. \nBE THERE!!
URL:https://riverratsduelingpianos.com/event/bug-a-boo-bay-alexandria-mn-tropical-ultra-fun-public-party/
END:VEVENT
BEGIN:VEVENT
DTSTART;TZID=UTC:20141030T200000
DTEND;TZID=UTC:20141030T230000
DTSTAMP:20260419T164551
CREATED:20140515T235542Z
LAST-MODIFIED:20140626T235647Z
UID:181-1414699200-1414710000@riverratsduelingpianos.com
SUMMARY:MARRIOTT NORTHLAND INN\, Brooklyn Park\, MN - Private event for Courage Kenny Rehabilitation Institute
DESCRIPTION:We make corporate events FUN! \n  \n 
URL:https://riverratsduelingpianos.com/event/marriott-northland-inn-brooklyn-park-mn-private-event-for-courage-kenny-rehabilitation-institute/
END:VEVENT
END:VCALENDAR