BEGIN:VCALENDAR
VERSION:2.0
PRODID:-//River Rats Dueling Pianos - ECPv6.15.20//NONSGML v1.0//EN
CALSCALE:GREGORIAN
METHOD:PUBLISH
X-ORIGINAL-URL:https://riverratsduelingpianos.com
X-WR-CALDESC:Events for River Rats Dueling Pianos
REFRESH-INTERVAL;VALUE=DURATION:PT1H
X-Robots-Tag:noindex
X-PUBLISHED-TTL:PT1H
BEGIN:VTIMEZONE
TZID:UTC
BEGIN:STANDARD
TZOFFSETFROM:+0000
TZOFFSETTO:+0000
TZNAME:UTC
DTSTART:20140101T000000
END:STANDARD
END:VTIMEZONE
BEGIN:VEVENT
DTSTART;VALUE=DATE:20150109
DTEND;VALUE=DATE:20150110
DTSTAMP:20260419T105141
CREATED:20141022T203118Z
LAST-MODIFIED:20141022T203118Z
UID:265-1420761600-1420847999@riverratsduelingpianos.com
SUMMARY:PLYMOUTH MN. - Corporate Holiday Party
DESCRIPTION:Corporate Holiday Parties are More Fun with the River Rats!
URL:https://riverratsduelingpianos.com/event/plymouth-mn-corporate-holiday-party/
END:VEVENT
BEGIN:VEVENT
DTSTART;TZID=UTC:20150110T200000
DTEND;TZID=UTC:20150110T230000
DTSTAMP:20260419T105141
CREATED:20140418T000050Z
LAST-MODIFIED:20140418T000521Z
UID:157-1420920000-1420930800@riverratsduelingpianos.com
SUMMARY:WATERING HOLE\, Lincoln NB - Private corporate event for Ritchie Bros Auctioneers
DESCRIPTION:We bring the pianos anywhere people want to have fun! \nThe people who auction the BIG EQUIPMENT want BIGG FUNN! \nCan’t wait!
URL:https://riverratsduelingpianos.com/event/watering-hole-lincoln-nb-private-corporate-event-for-ritchie-bros-auctioneers/
END:VEVENT
BEGIN:VEVENT
DTSTART;VALUE=DATE:20150111
DTEND;VALUE=DATE:20150112
DTSTAMP:20260419T105141
CREATED:20141027T222456Z
LAST-MODIFIED:20141027T222456Z
UID:266-1420934400-1421020799@riverratsduelingpianos.com
SUMMARY:ANOKA\, MN - Private Holiday Party for Home Depot
DESCRIPTION:We’ve played for a lot of Home Depot stores. \nWould the pianos look good in Home Depot Orange?
URL:https://riverratsduelingpianos.com/event/anoka-mn-private-holiday-party-for-home-depot/
END:VEVENT
BEGIN:VEVENT
DTSTART;TZID=UTC:20150117T080000
DTEND;TZID=UTC:20150117T170000
DTSTAMP:20260419T105141
CREATED:20140926T212402Z
LAST-MODIFIED:20140927T003035Z
UID:245-1421481600-1421514000@riverratsduelingpianos.com
SUMMARY:Le Mars\, IA - Private Corporate
DESCRIPTION:We travel anywhere people want fun!
URL:https://riverratsduelingpianos.com/event/sioux-city-ia/
END:VEVENT
BEGIN:VEVENT
DTSTART;TZID=UTC:20150123T210000
DTEND;TZID=UTC:20150123T210000
DTSTAMP:20260419T105141
CREATED:20141107T005213Z
LAST-MODIFIED:20141107T005213Z
UID:272-1422046800-1422046800@riverratsduelingpianos.com
SUMMARY:SHENANIGAN’S SPORTS BAR\, SIOUX FALLS SD – PUBLIC SHOW AT NEW LOCATION TBA!
DESCRIPTION:We’re back again. \nThis is a FUN PLACE! \nBe Here
URL:https://riverratsduelingpianos.com/event/shenanigans-sports-bar-sioux-falls-sd-public-show-at-new-location-tba-2/
END:VEVENT
BEGIN:VEVENT
DTSTART;TZID=UTC:20150124T080000
DTEND;TZID=UTC:20150124T170000
DTSTAMP:20260419T105141
CREATED:20140927T015857Z
LAST-MODIFIED:20140927T015857Z
UID:248-1422086400-1422118800@riverratsduelingpianos.com
SUMMARY:RIDGE GOLF CLUB\, Sioux Center IA - Private Event
DESCRIPTION:We’re bringing the Heavy Irons! \n 
URL:https://riverratsduelingpianos.com/event/ridge-golf-club-sioux-center-ia-private-event/
END:VEVENT
END:VCALENDAR