BEGIN:VCALENDAR
VERSION:2.0
PRODID:-//River Rats Dueling Pianos - ECPv6.15.20//NONSGML v1.0//EN
CALSCALE:GREGORIAN
METHOD:PUBLISH
X-WR-CALNAME:River Rats Dueling Pianos
X-ORIGINAL-URL:https://riverratsduelingpianos.com
X-WR-CALDESC:Events for River Rats Dueling Pianos
REFRESH-INTERVAL;VALUE=DURATION:PT1H
X-Robots-Tag:noindex
X-PUBLISHED-TTL:PT1H
BEGIN:VTIMEZONE
TZID:UTC
BEGIN:STANDARD
TZOFFSETFROM:+0000
TZOFFSETTO:+0000
TZNAME:UTC
DTSTART:20140101T000000
END:STANDARD
END:VTIMEZONE
BEGIN:VEVENT
DTSTART;VALUE=DATE:20150304
DTEND;VALUE=DATE:20150305
DTSTAMP:20260419T071225
CREATED:20141203T033832Z
LAST-MODIFIED:20141203T033832Z
UID:281-1425427200-1425513599@riverratsduelingpianos.com
SUMMARY:ST. CLOUD\, MN for Private Corporate Event
DESCRIPTION:Rollin’ up river to St. Cloud with more fun!
URL:https://riverratsduelingpianos.com/event/st-cloud-mn-for-private-corporate-event/
END:VEVENT
BEGIN:VEVENT
DTSTART;VALUE=DATE:20150313
DTEND;VALUE=DATE:20150314
DTSTAMP:20260419T071225
CREATED:20141209T235522Z
LAST-MODIFIED:20141209T235522Z
UID:283-1426204800-1426291199@riverratsduelingpianos.com
SUMMARY:BIRD ISLAND \, MN - Public Show! Fundraiser for Fire Department
DESCRIPTION:We make fundraisers FUN!
URL:https://riverratsduelingpianos.com/event/bird-island-mn-public-show-fundraiser-for-fire-department/
END:VEVENT
BEGIN:VEVENT
DTSTART;VALUE=DATE:20150321
DTEND;VALUE=DATE:20150322
DTSTAMP:20260419T071225
CREATED:20141211T050027Z
LAST-MODIFIED:20141211T050027Z
UID:284-1426896000-1426982399@riverratsduelingpianos.com
SUMMARY:KNIGHTS OF COLUMBUS HALL\, LA MARS\, IOWA - COMMUNITY EVENT
DESCRIPTION:We’re going back to our old stomping grounds in West Iowa; \nLa Mars\, home of Blue Bunny Ice Cream!
URL:https://riverratsduelingpianos.com/event/knights-of-columbus-hall-la-mars-iowa-community-event/
END:VEVENT
END:VCALENDAR