BEGIN:VCALENDAR
VERSION:2.0
PRODID:-//River Rats Dueling Pianos - ECPv6.15.20//NONSGML v1.0//EN
CALSCALE:GREGORIAN
METHOD:PUBLISH
X-ORIGINAL-URL:https://riverratsduelingpianos.com
X-WR-CALDESC:Events for River Rats Dueling Pianos
REFRESH-INTERVAL;VALUE=DURATION:PT1H
X-Robots-Tag:noindex
X-PUBLISHED-TTL:PT1H
BEGIN:VTIMEZONE
TZID:America/Chicago
BEGIN:DAYLIGHT
TZOFFSETFROM:-0600
TZOFFSETTO:-0500
TZNAME:CDT
DTSTART:20230312T080000
END:DAYLIGHT
BEGIN:STANDARD
TZOFFSETFROM:-0500
TZOFFSETTO:-0600
TZNAME:CST
DTSTART:20231105T070000
END:STANDARD
BEGIN:DAYLIGHT
TZOFFSETFROM:-0600
TZOFFSETTO:-0500
TZNAME:CDT
DTSTART:20240310T080000
END:DAYLIGHT
BEGIN:STANDARD
TZOFFSETFROM:-0500
TZOFFSETTO:-0600
TZNAME:CST
DTSTART:20241103T070000
END:STANDARD
BEGIN:DAYLIGHT
TZOFFSETFROM:-0600
TZOFFSETTO:-0500
TZNAME:CDT
DTSTART:20250309T080000
END:DAYLIGHT
BEGIN:STANDARD
TZOFFSETFROM:-0500
TZOFFSETTO:-0600
TZNAME:CST
DTSTART:20251102T070000
END:STANDARD
END:VTIMEZONE
BEGIN:VEVENT
DTSTART;VALUE=DATE:20240613
DTEND;VALUE=DATE:20240614
DTSTAMP:20260423T012942
CREATED:20240517T183555Z
LAST-MODIFIED:20240517T183555Z
UID:1502-1718236800-1718323199@riverratsduelingpianos.com
SUMMARY:TOM'S WATCH BAR\, Mpls. - Private Corporate event
DESCRIPTION:We are always a hit at corporate events. \nSchedule your next company event with us!
URL:https://riverratsduelingpianos.com/event/toms-watch-bar-mpls-private-corporate-event/
END:VEVENT
BEGIN:VEVENT
DTSTART;TZID=America/Chicago:20240614T200000
DTEND;TZID=America/Chicago:20240614T233000
DTSTAMP:20260423T012942
CREATED:20240321T213851Z
LAST-MODIFIED:20240321T213851Z
UID:1487-1718395200-1718407800@riverratsduelingpianos.com
SUMMARY:MAPLE ISLAND PARK\, LITTLE FALLS MN - Free Public Performance
DESCRIPTION:THIS IS GONNA BE FUN!! \nThe Little Falls Dam Festival is a free community event that has been ongoing for 20+ years. \nFree\, Outdoor\, Family Friendly\, Show. \nChildren & Dogs welcome!
URL:https://riverratsduelingpianos.com/event/maple-island-park-little-falls-mn-free-public-performance/
LOCATION:MAPLE ISLAND PARK\, Little Falls MN\, 3rd Avenue Southeast\, Little Falls\, MN\, 56345\, United States
END:VEVENT
END:VCALENDAR